BEGIN:VCALENDAR
VERSION:2.0
PRODID:CDU
NAME:Öffentliche Anhörung Verkehrsausschuss - „Ausbaustrecke/Neubaustre
 cke Hannover-Hamburg“
X-WR-CALNAME:Öffentliche Anhörung Verkehrsausschuss - „Ausbaustrecke/Ne
 ubaustrecke Hannover-Hamburg“
DESCRIPTION:
X-WR-CALDESC:
BEGIN:VTIMEZONE
TZID:Europe/Berlin
BEGIN:STANDARD
DTSTART:20251026T030000
TZOFFSETFROM:+0200
TZOFFSETTO:+0100
END:STANDARD
BEGIN:DAYLIGHT
DTSTART:20260329T020000
TZOFFSETFROM:+0100
TZOFFSETTO:+0200
END:DAYLIGHT
END:VTIMEZONE
BEGIN:VTIMEZONE
TZID:UTC
BEGIN:STANDARD
DTSTART:20250724T135432
TZOFFSETFROM:+0000
TZOFFSETTO:+0000
END:STANDARD
END:VTIMEZONE
BEGIN:VEVENT
UID:69e630186abe4
DTSTAMP:20260420T135432Z
SUMMARY:Öffentliche Anhörung Verkehrsausschuss - „Ausbaustrecke/Neubaus
 trecke Hannover-Hamburg“
DESCRIPTION:
LOCATION:Deutscher Bundestag
DTSTART;TZID=Europe/Berlin:20260420T130000
DTEND;TZID=Europe/Berlin:20260420T140000
END:VEVENT
END:VCALENDAR