BEGIN:VCALENDAR
VERSION:2.0
PRODID:CDU
NAME:Sitzung der CDU/CSU-Fraktion
X-WR-CALNAME:Sitzung der CDU/CSU-Fraktion
DESCRIPTION:
X-WR-CALDESC:
BEGIN:VTIMEZONE
TZID:Europe/Berlin
BEGIN:STANDARD
DTSTART:20251026T030000
TZOFFSETFROM:+0200
TZOFFSETTO:+0100
END:STANDARD
BEGIN:DAYLIGHT
DTSTART:20260329T020000
TZOFFSETFROM:+0100
TZOFFSETTO:+0200
END:DAYLIGHT
END:VTIMEZONE
BEGIN:VTIMEZONE
TZID:UTC
BEGIN:STANDARD
DTSTART:20250724T190909
TZOFFSETFROM:+0000
TZOFFSETTO:+0000
END:STANDARD
END:VTIMEZONE
BEGIN:VEVENT
UID:69e679d52a6ce
DTSTAMP:20260420T190909Z
SUMMARY:Sitzung der CDU/CSU-Fraktion
DESCRIPTION:
LOCATION:Deutscher Bundestag
DTSTART;TZID=Europe/Berlin:20260421T150000
DTEND;TZID=Europe/Berlin:20260421T160000
END:VEVENT
END:VCALENDAR