BEGIN:VCALENDAR
VERSION:2.0
PRODID:CDU
NAME:Regierungsbefragung - Bundesministerin Dorothee Bär und Bundesministe
 r Thorsten Frei
X-WR-CALNAME:Regierungsbefragung - Bundesministerin Dorothee Bär und Bunde
 sminister Thorsten Frei
DESCRIPTION:
X-WR-CALDESC:
BEGIN:VTIMEZONE
TZID:Europe/Berlin
BEGIN:STANDARD
DTSTART:20251026T030000
TZOFFSETFROM:+0200
TZOFFSETTO:+0100
END:STANDARD
BEGIN:DAYLIGHT
DTSTART:20260329T020000
TZOFFSETFROM:+0100
TZOFFSETTO:+0200
END:DAYLIGHT
END:VTIMEZONE
BEGIN:VTIMEZONE
TZID:UTC
BEGIN:STANDARD
DTSTART:20250724T190940
TZOFFSETFROM:+0000
TZOFFSETTO:+0000
END:STANDARD
END:VTIMEZONE
BEGIN:VEVENT
UID:69e679f4d95ba
DTSTAMP:20260420T190940Z
SUMMARY:Regierungsbefragung - Bundesministerin Dorothee Bär und Bundesmini
 ster Thorsten Frei
DESCRIPTION:
LOCATION:Deutscher Bundestag
DTSTART;TZID=Europe/Berlin:20260422T140000
DTEND;TZID=Europe/Berlin:20260422T150000
END:VEVENT
END:VCALENDAR